BEGIN:VCALENDAR
VERSION:2.0
PRODID:-//BRMA - ECPv6.15.20//NONSGML v1.0//EN
CALSCALE:GREGORIAN
METHOD:PUBLISH
X-WR-CALNAME:BRMA
X-ORIGINAL-URL:https://brma.com
X-WR-CALDESC:Events for BRMA
REFRESH-INTERVAL;VALUE=DURATION:PT1H
X-Robots-Tag:noindex
X-PUBLISHED-TTL:PT1H
BEGIN:VTIMEZONE
TZID:America/Los_Angeles
BEGIN:DAYLIGHT
TZOFFSETFROM:-0800
TZOFFSETTO:-0700
TZNAME:PDT
DTSTART:20240310T100000
END:DAYLIGHT
BEGIN:STANDARD
TZOFFSETFROM:-0700
TZOFFSETTO:-0800
TZNAME:PST
DTSTART:20241103T090000
END:STANDARD
BEGIN:DAYLIGHT
TZOFFSETFROM:-0800
TZOFFSETTO:-0700
TZNAME:PDT
DTSTART:20250309T100000
END:DAYLIGHT
BEGIN:STANDARD
TZOFFSETFROM:-0700
TZOFFSETTO:-0800
TZNAME:PST
DTSTART:20251102T090000
END:STANDARD
BEGIN:DAYLIGHT
TZOFFSETFROM:-0800
TZOFFSETTO:-0700
TZNAME:PDT
DTSTART:20260308T100000
END:DAYLIGHT
BEGIN:STANDARD
TZOFFSETFROM:-0700
TZOFFSETTO:-0800
TZNAME:PST
DTSTART:20261101T090000
END:STANDARD
END:VTIMEZONE
BEGIN:VEVENT
DTSTART;TZID=America/Los_Angeles:20250821T120000
DTEND;TZID=America/Los_Angeles:20250821T130000
DTSTAMP:20260423T141837
CREATED:20250817T163655Z
LAST-MODIFIED:20250817T163655Z
UID:11012-1755777600-1755781200@brma.com
SUMMARY:Resilience Metrics\, the next chapter
DESCRIPTION:Event Title: Resilience Metrics\, the next chapter \nJoin BRMA on Thursday\, August 21\, 2025\, from 12:00 PM to 1:00 PM PT for the next installment in our Resilience Metrics journey with Dawn Grzena. \nPreviously\, Dr. Bernard Jones and Dawn led a popular workshop on building meaningful resilience metrics. Now\, Dawn is back to guide us through the critical next steps: developing OKRs (Objectives and Key Results) and creating strategic roadmaps to put those metrics into action. \nThis is your chance to move from theory to practice and apply these concepts to your own organization. Bring your questions\, challenges\, and ideas related to resilience metrics\, as we will have dedicated time for an open discussion. \nAs a special thank you for attending\, all BRMA members present will be entered into a drawing for a chance to win a copy of Dawn Grzena’s book\, The Joy of Metrics.Event Details: \n\nDate: Thursday\, August 21\, 2025\nTime: 12:00 PM – 1:00 PM Pacific Time\nMeeting Link: Click Here Meeting ID: 883 7164 2950  Passcode: 547533\n\nSpeaker: \nDawn Grzena\, the founder of B4TheCrisis\, is a highly-driven Program/Project professional with a strong commitment to building and maintaining trust with customers and stakeholders alike. She is dedicated to not only driving resilience but also fostering business growth and revenue generation through the cultivation of long-term relationships across the enterprise. \nA passionate blogger\, writer\, and speaker\, Dawn’s work is centered on all aspects of preparing for disruptions—both professional and personal. Currently\, her projects include working on Operational Metrics Standardization and leading the tough\, necessary conversations in Operational Resilience\, reflecting her belief in proactive planning and collaborative problem-solving. \n\nQuestions\nPlease contact info@brma.com \n\n\n\n\n\n\n\n \nVisit brma.com to learn more about our the benefits of becoming a member.
URL:https://brma.com/event/resilience-metrics-the-next-chapter/
LOCATION:Webinar
CATEGORIES:BRMA Webinars
ATTACH;FMTTYPE=image/jpeg:https://brma.com/wp-content/uploads/2025/08/brma_dawn_grzena.jpg
ORGANIZER;CN="BRMA":MAILTO:info@brma.com
END:VEVENT
END:VCALENDAR