BEGIN:VCALENDAR
VERSION:2.0
PRODID:-//BRMA - ECPv6.15.20//NONSGML v1.0//EN
CALSCALE:GREGORIAN
METHOD:PUBLISH
X-WR-CALNAME:BRMA
X-ORIGINAL-URL:https://brma.com
X-WR-CALDESC:Events for BRMA
REFRESH-INTERVAL;VALUE=DURATION:PT1H
X-Robots-Tag:noindex
X-PUBLISHED-TTL:PT1H
BEGIN:VTIMEZONE
TZID:America/Los_Angeles
BEGIN:DAYLIGHT
TZOFFSETFROM:-0800
TZOFFSETTO:-0700
TZNAME:PDT
DTSTART:20230312T100000
END:DAYLIGHT
BEGIN:STANDARD
TZOFFSETFROM:-0700
TZOFFSETTO:-0800
TZNAME:PST
DTSTART:20231105T090000
END:STANDARD
BEGIN:DAYLIGHT
TZOFFSETFROM:-0800
TZOFFSETTO:-0700
TZNAME:PDT
DTSTART:20240310T100000
END:DAYLIGHT
BEGIN:STANDARD
TZOFFSETFROM:-0700
TZOFFSETTO:-0800
TZNAME:PST
DTSTART:20241103T090000
END:STANDARD
BEGIN:DAYLIGHT
TZOFFSETFROM:-0800
TZOFFSETTO:-0700
TZNAME:PDT
DTSTART:20250309T100000
END:DAYLIGHT
BEGIN:STANDARD
TZOFFSETFROM:-0700
TZOFFSETTO:-0800
TZNAME:PST
DTSTART:20251102T090000
END:STANDARD
END:VTIMEZONE
BEGIN:VEVENT
DTSTART;TZID=America/Los_Angeles:20240229T153000
DTEND;TZID=America/Los_Angeles:20240229T183000
DTSTAMP:20260424T164001
CREATED:20240215T183033Z
LAST-MODIFIED:20240215T183034Z
UID:10371-1709220600-1709231400@brma.com
SUMMARY:LEAP With BRMA - Networking Happy Hour
DESCRIPTION:Join us for an exclusive networking happy hour where you can connect with peers\, share insights\, and leap into 2024’s opportunities with enthusiasm. Don’t miss this chance to expand your professional network in the business resilience community.\n\n \nRegistration\nPlease use the button below to register for the event.  Register\n\n\n\nGuests\nCome find out more about BRMA.  This social event is free\, please register using the button above.  Should you have any questions in the meantime\, please contact info@brma.com.\nQuestions\nPlease contact info@brma.com \nVisit brma.com to learn more about our the benefits of becoming a member.
URL:https://brma.com/event/leap-with-brma-networking-happy-hour/
LOCATION:Laughing Monk Brewing – Sunnyvale\, 1235 Oakmead Parkway\, Sunnyvale\, CA\, 94085
CATEGORIES:BRMA Events,BRMA In-Person Meetings
ATTACH;FMTTYPE=image/jpeg:https://brma.com/wp-content/uploads/2024/02/people-sitting-front-of-table-at-daytime.jpg
ORGANIZER;CN="BRMA":MAILTO:info@brma.com
END:VEVENT
END:VCALENDAR