BEGIN:VCALENDAR
VERSION:2.0
PRODID:-//BRMA - ECPv6.15.20//NONSGML v1.0//EN
CALSCALE:GREGORIAN
METHOD:PUBLISH
X-WR-CALNAME:BRMA
X-ORIGINAL-URL:https://brma.com
X-WR-CALDESC:Events for BRMA
REFRESH-INTERVAL;VALUE=DURATION:PT1H
X-Robots-Tag:noindex
X-PUBLISHED-TTL:PT1H
BEGIN:VTIMEZONE
TZID:America/Los_Angeles
BEGIN:DAYLIGHT
TZOFFSETFROM:-0800
TZOFFSETTO:-0700
TZNAME:PDT
DTSTART:20240310T100000
END:DAYLIGHT
BEGIN:STANDARD
TZOFFSETFROM:-0700
TZOFFSETTO:-0800
TZNAME:PST
DTSTART:20241103T090000
END:STANDARD
BEGIN:DAYLIGHT
TZOFFSETFROM:-0800
TZOFFSETTO:-0700
TZNAME:PDT
DTSTART:20250309T100000
END:DAYLIGHT
BEGIN:STANDARD
TZOFFSETFROM:-0700
TZOFFSETTO:-0800
TZNAME:PST
DTSTART:20251102T090000
END:STANDARD
BEGIN:DAYLIGHT
TZOFFSETFROM:-0800
TZOFFSETTO:-0700
TZNAME:PDT
DTSTART:20260308T100000
END:DAYLIGHT
BEGIN:STANDARD
TZOFFSETFROM:-0700
TZOFFSETTO:-0800
TZNAME:PST
DTSTART:20261101T090000
END:STANDARD
END:VTIMEZONE
BEGIN:VEVENT
DTSTART;TZID=America/Los_Angeles:20250529T120000
DTEND;TZID=America/Los_Angeles:20250529T133000
DTSTAMP:20260423T235710
CREATED:20250511T213245Z
LAST-MODIFIED:20250511T214706Z
UID:10963-1748520000-1748525400@brma.com
SUMMARY:Building Career and Professional Resilience
DESCRIPTION:Building Career and Professional Resilience \nIn today’s rapidly changing landscape\, professional resilience goes beyond just adapting to disruption — it’s about proactively shaping your presence\, your network\, and your opportunities. In this session\, we’ll explore how personal branding plays a critical role in building long-term career resilience. You’ll learn practical strategies to leverage LinkedIn to establish authority\, grow in a niche\, and stay relevant in an evolving marketplace. Whether you’re looking to advance in your current role or pivot to new opportunities\, this webinar will give you actionable insights to strengthen your professional foundation through intentional\, digital visibility. \nTime: May 29\, 2025 12:00 PM Pacific Time (US and Canada) \nREGISTRATION LINK: https://us06web.zoom.us/j/5943664369?pwd=SGZIVWlyL09WWFJ3Tkc0SzgrL1pkUT09&omn=87937067549 \n\nQuestions\nPlease contact info@brma.com \n\n\n\n\n\n\n\n \nVisit brma.com to learn more about our the benefits of becoming a member.
URL:https://brma.com/event/building-career-and-professional-resilience/
LOCATION:Webinar
CATEGORIES:BRMA Webinars
ATTACH;FMTTYPE=image/jpeg:https://brma.com/wp-content/uploads/2025/05/lester_chng.jpg
ORGANIZER;CN="BRMA":MAILTO:info@brma.com
END:VEVENT
END:VCALENDAR