BEGIN:VCALENDAR
VERSION:2.0
PRODID:-//BRMA - ECPv6.15.20//NONSGML v1.0//EN
CALSCALE:GREGORIAN
METHOD:PUBLISH
X-ORIGINAL-URL:https://brma.com
X-WR-CALDESC:Events for BRMA
REFRESH-INTERVAL;VALUE=DURATION:PT1H
X-Robots-Tag:noindex
X-PUBLISHED-TTL:PT1H
BEGIN:VTIMEZONE
TZID:America/Los_Angeles
BEGIN:DAYLIGHT
TZOFFSETFROM:-0800
TZOFFSETTO:-0700
TZNAME:PDT
DTSTART:20220313T100000
END:DAYLIGHT
BEGIN:STANDARD
TZOFFSETFROM:-0700
TZOFFSETTO:-0800
TZNAME:PST
DTSTART:20221106T090000
END:STANDARD
BEGIN:DAYLIGHT
TZOFFSETFROM:-0800
TZOFFSETTO:-0700
TZNAME:PDT
DTSTART:20230312T100000
END:DAYLIGHT
BEGIN:STANDARD
TZOFFSETFROM:-0700
TZOFFSETTO:-0800
TZNAME:PST
DTSTART:20231105T090000
END:STANDARD
BEGIN:DAYLIGHT
TZOFFSETFROM:-0800
TZOFFSETTO:-0700
TZNAME:PDT
DTSTART:20240310T100000
END:DAYLIGHT
BEGIN:STANDARD
TZOFFSETFROM:-0700
TZOFFSETTO:-0800
TZNAME:PST
DTSTART:20241103T090000
END:STANDARD
END:VTIMEZONE
BEGIN:VEVENT
DTSTART;TZID=America/Los_Angeles:20231208T110000
DTEND;TZID=America/Los_Angeles:20231208T143000
DTSTAMP:20260425T035142
CREATED:20231116T050133Z
LAST-MODIFIED:20231116T225940Z
UID:10270-1702033200-1702045800@brma.com
SUMMARY:BRMA Annual Membership Celebration
DESCRIPTION:BRMA Invites you to its Annual Members’ Celebration!\nJoin us on December 8\, 2023\, as we celebrate another year with an afternoon of fun\, food\, connection\, and celebration! \nMembers are invited to a celebration at Pinstripes in San Mateo\, featuring: \n\nBRMA’s Annual Meeting – Election results\, BRMA’s performance and future plans\nLuncheon + Bowling – Enjoy tasty food\, friendly competition and camaraderie\nNetworking – Get to know your fellow members\n\nBRMA members are invited to attend this event at no cost (alcoholic beverages must be purchased separately). Only 25 spots are available\, so please RSVP by November 30 to make sure you’re there! \nCome celebrate another memorable year with BRMA and look forward to a successful 2024. Let’s wrap up the year with a bang and make plans for an even better 2024 at BRMA. Are you ready? \nDate: December 8\, 2023 \nTime: 11:00-2:30pm PT \nWhere: Pinstripes\, San Mateo\, CA \nRegistration\nPlease use the button below to register for the event.  Register\n\nGuests\nCome find out more about BRMA.  This social event is free\, please register using the button above.  Should you have any questions in the meantime\, please contact program@brma.com. \nQuestions\nPlease contact program@brma.com \n\n\n\n\n\n\n\n \nVisit brma.com to learn more about our the benefits of becoming a member.
URL:https://brma.com/event/brma-annual-membership-celebration/
LOCATION:Pinstripes\, 36 Hillsdale Mall\, San Mateo\, CA\, 94403\, United States
CATEGORIES:BRMA Webinars
ATTACH;FMTTYPE=image/png:https://brma.com/wp-content/uploads/2023/11/V3_1-Annual-Membership-Celebration-816-x-474-px.png
END:VEVENT
END:VCALENDAR