BEGIN:VCALENDAR
VERSION:2.0
PRODID:-//BRMA - ECPv6.15.20//NONSGML v1.0//EN
CALSCALE:GREGORIAN
METHOD:PUBLISH
X-ORIGINAL-URL:https://brma.com
X-WR-CALDESC:Events for BRMA
REFRESH-INTERVAL;VALUE=DURATION:PT1H
X-Robots-Tag:noindex
X-PUBLISHED-TTL:PT1H
BEGIN:VTIMEZONE
TZID:America/Los_Angeles
BEGIN:DAYLIGHT
TZOFFSETFROM:-0800
TZOFFSETTO:-0700
TZNAME:PDT
DTSTART:20220313T100000
END:DAYLIGHT
BEGIN:STANDARD
TZOFFSETFROM:-0700
TZOFFSETTO:-0800
TZNAME:PST
DTSTART:20221106T090000
END:STANDARD
BEGIN:DAYLIGHT
TZOFFSETFROM:-0800
TZOFFSETTO:-0700
TZNAME:PDT
DTSTART:20230312T100000
END:DAYLIGHT
BEGIN:STANDARD
TZOFFSETFROM:-0700
TZOFFSETTO:-0800
TZNAME:PST
DTSTART:20231105T090000
END:STANDARD
BEGIN:DAYLIGHT
TZOFFSETFROM:-0800
TZOFFSETTO:-0700
TZNAME:PDT
DTSTART:20240310T100000
END:DAYLIGHT
BEGIN:STANDARD
TZOFFSETFROM:-0700
TZOFFSETTO:-0800
TZNAME:PST
DTSTART:20241103T090000
END:STANDARD
END:VTIMEZONE
BEGIN:VEVENT
DTSTART;TZID=America/Los_Angeles:20230324T110000
DTEND;TZID=America/Los_Angeles:20230324T120000
DTSTAMP:20260425T203955
CREATED:20230320T055000Z
LAST-MODIFIED:20230330T210133Z
UID:9495-1679655600-1679659200@brma.com
SUMMARY:BRMA Webinar | Emergency Supplies Preparedness Benchmarking Post-Covid
DESCRIPTION:BRMA Webinar | Emergency Supplies Preparedness Benchmarking Post-Covid | Presented by Chris Chaisson – Applied Materials\nHow prepared is your organization for the next “BIG ONE”? or other major impacting events? \nCome join BRMA and Chris Chaisson\, Global Business Continuity Manager at Applied Materials for an open and engaging discussion on earthquake preparedness in the new hybrid working environment. Chris will lead us in an open discussion about having the ‘right’ amount of emergency supplies for those unexpected moments that are “NOT RIGHT.”  The question is: how much is enough? or too much? Let’s figure this out together. \nCome ready for an active discussion and bring those questions! We are all in this together\, so let’s gather and share our best and brightest ideas. \n\nSpeaker Spotlight: Chris Chaisson\n\nAgenda:\n11:00am-12:00pm PST | Presentation & Conversation \nWebinar Registration\nA Signup email will be sent directly to BRMA members prior to the event. BRMA Members: Please login for additional registration information. In addition to the signup email sent directly to BRMA Members\, use the button below to register as well. \n Register\n  \nAfter registering\, you will receive a confirmation email containing information about joining the webinar. \nGuests\nWish to attend\, and are not a member? Please contact program@brma.com. \nQuestions\nPlease contact program@brma.com \n\n\n\n\n\n\n\n\n\n\nVisit brma.com to learn more about our the benefits of becoming a member.
URL:https://brma.com/event/brma-webinar-emergency-supplies-preparedness-benchmarking-post-covid/
LOCATION:Webinar
CATEGORIES:BRMA Webinars
ATTACH;FMTTYPE=image/png:https://brma.com/wp-content/uploads/2023/03/March24-EarthquakeBenchmarking-v4.png
ORGANIZER;CN="BRMA Program Director":MAILTO:program@brma.com
END:VEVENT
END:VCALENDAR