BEGIN:VCALENDAR
VERSION:2.0
PRODID:-//BRMA - ECPv6.15.20//NONSGML v1.0//EN
CALSCALE:GREGORIAN
METHOD:PUBLISH
X-WR-CALNAME:BRMA
X-ORIGINAL-URL:https://brma.com
X-WR-CALDESC:Events for BRMA
REFRESH-INTERVAL;VALUE=DURATION:PT1H
X-Robots-Tag:noindex
X-PUBLISHED-TTL:PT1H
BEGIN:VTIMEZONE
TZID:America/Los_Angeles
BEGIN:DAYLIGHT
TZOFFSETFROM:-0800
TZOFFSETTO:-0700
TZNAME:PDT
DTSTART:20230312T100000
END:DAYLIGHT
BEGIN:STANDARD
TZOFFSETFROM:-0700
TZOFFSETTO:-0800
TZNAME:PST
DTSTART:20231105T090000
END:STANDARD
BEGIN:DAYLIGHT
TZOFFSETFROM:-0800
TZOFFSETTO:-0700
TZNAME:PDT
DTSTART:20240310T100000
END:DAYLIGHT
BEGIN:STANDARD
TZOFFSETFROM:-0700
TZOFFSETTO:-0800
TZNAME:PST
DTSTART:20241103T090000
END:STANDARD
BEGIN:DAYLIGHT
TZOFFSETFROM:-0800
TZOFFSETTO:-0700
TZNAME:PDT
DTSTART:20250309T100000
END:DAYLIGHT
BEGIN:STANDARD
TZOFFSETFROM:-0700
TZOFFSETTO:-0800
TZNAME:PST
DTSTART:20251102T090000
END:STANDARD
END:VTIMEZONE
BEGIN:VEVENT
DTSTART;TZID=America/Los_Angeles:20241024T113000
DTEND;TZID=America/Los_Angeles:20241024T130000
DTSTAMP:20260424T084056
CREATED:20241018T132134Z
LAST-MODIFIED:20241018T132458Z
UID:10932-1729769400-1729774800@brma.com
SUMMARY:Resilience in Action: What Recent High-Profile Cyber Incidents Teach Us
DESCRIPTION:EVENT TITLE: Resilience in Action: What Recent High-Profile Cyber Incidents Teach Us \nDATE: October 24\, 2024 \nTIME: 11:30 am – 1:00 pm PT \nLOCATION: Virtual Event \nABOUT THE EVENT: \nIn today’s interconnected digital landscape\, cyber incidents have far-reaching impacts on critical services\, often leading to extended outages that disrupt business continuity. In this session\, we will explore real-world lessons learned from recent high-profile cyber incidents\, examining the consequences of service downtime and the challenges in managing third-party risks. The discussion will focus on proactive strategies to mitigate these risks\, from robust third-party oversight to effective operational resilience\, technology recovery\, and crisis management strategies. Attendees will gain insights into how organizations can strengthen their cyber resilience and recovery capabilities in the face of evolving threats. \nSPEAKERS: \nSteve Taylor \nSteve advises companies on strategies to reduce cyber risk\, improve organizational resilience and evolve from the effects of cyber-attacks. Steve has first-hand experience leading the cross-functional response to several of the highest profile security incidents over the last five years\, including SolarWinds\, CodeCov\, Log4j\, Ivanti and persistent attacks by nation-state backed threat actor groups. Areas of specialization include: cyber risk management\, crisis management\, third-party risk management\, risk assurance and operational resilience. \nMatt DeFrain \nMatt is an experienced business and IT risk professional with more than 20 years of experience in risk advisory consulting including cybersecurity\, cyber & operational resilience\, business continuity\, crisis management\, IT resilience and recovery\, 3rd party risk\, and governance\, risk and compliance (GRC). He has led numerous client engagements for some of the world’s largest companies and has successfully managed large distributed teams across the globe. Matt has also defined and stood up several consulting service offerings across different firms including vision and goals\, service design\, methodology and tool development\, go-to-market strategy and tactic\, team building\, partner engagement/program\, marketing\, business development\, and account relationship management to drive expertise and value to client organizations. \n  \nZOOM LINK: HERE \n\nQuestions\nPlease contact info@brma.com \n\n\n\n\n\n\n\n \nVisit brma.com to learn more about our the benefits of becoming a member.
URL:https://brma.com/event/resilience-in-action-what-recent-high-profile-cyber-incidents-teach-us/
LOCATION:Online Event
CATEGORIES:BRMA Events,BRMA Webinars
ATTACH;FMTTYPE=image/png:https://brma.com/wp-content/uploads/2024/10/Webinar-Oct-24-1130am-PT.png
ORGANIZER;CN="BRMA":MAILTO:info@brma.com
END:VEVENT
END:VCALENDAR