BEGIN:VCALENDAR
VERSION:2.0
PRODID:-//BRMA - ECPv6.15.20//NONSGML v1.0//EN
CALSCALE:GREGORIAN
METHOD:PUBLISH
X-WR-CALNAME:BRMA
X-ORIGINAL-URL:https://brma.com
X-WR-CALDESC:Events for BRMA
REFRESH-INTERVAL;VALUE=DURATION:PT1H
X-Robots-Tag:noindex
X-PUBLISHED-TTL:PT1H
BEGIN:VTIMEZONE
TZID:America/Los_Angeles
BEGIN:DAYLIGHT
TZOFFSETFROM:-0800
TZOFFSETTO:-0700
TZNAME:PDT
DTSTART:20230312T100000
END:DAYLIGHT
BEGIN:STANDARD
TZOFFSETFROM:-0700
TZOFFSETTO:-0800
TZNAME:PST
DTSTART:20231105T090000
END:STANDARD
BEGIN:DAYLIGHT
TZOFFSETFROM:-0800
TZOFFSETTO:-0700
TZNAME:PDT
DTSTART:20240310T100000
END:DAYLIGHT
BEGIN:STANDARD
TZOFFSETFROM:-0700
TZOFFSETTO:-0800
TZNAME:PST
DTSTART:20241103T090000
END:STANDARD
BEGIN:DAYLIGHT
TZOFFSETFROM:-0800
TZOFFSETTO:-0700
TZNAME:PDT
DTSTART:20250309T100000
END:DAYLIGHT
BEGIN:STANDARD
TZOFFSETFROM:-0700
TZOFFSETTO:-0800
TZNAME:PST
DTSTART:20251102T090000
END:STANDARD
END:VTIMEZONE
BEGIN:VEVENT
DTSTART;TZID=America/Los_Angeles:20240425T110000
DTEND;TZID=America/Los_Angeles:20240425T123000
DTSTAMP:20260424T194859
CREATED:20240329T024051Z
LAST-MODIFIED:20240409T232910Z
UID:10567-1714042800-1714048200@brma.com
SUMMARY:An Introduction to Control-Based Resilience
DESCRIPTION:Join Meeting Now \nTraditional Resilience Programs often face challenges with stakeholder engagement\, articulating value\, and ensuring scalability. In this transformative webinar\, Scott Baldwin introduces a pioneering paradigm for Operational Resilience known as Control-Based Resilience (CBR). First implemented at Netflix\, and later validated at AWS\, CBR shifts the focus towards: \n– Emphasizing preventative and proactive resilience measures. \n– Employing quantifiable and intuitive metrics for clear insights. \n– Enhancing risk identification and mitigation processes. \n– Streamlining methodology for greater scalability and partner acceptance. \nDiscover how CBR not only elevates your resilience program’s effectiveness but also significantly boosts your Return on Investment (ROI). \nJoin us to learn about this innovative approach to Operational Resilience and elevate your program’s value and impact. \nDate: April 25thTime: 11:00 AM -12:30 PM PT \nSpeaker:Scott Baldwin\, MBCI\, CBCP has over 20 years of experience in Crisis Management\, Business Continuity\, Disaster Recovery\, and Operational Resilience. He has built and led resilience programs for international tech giants including AWS\, Netflix\, Symantec\, and eBay. \nJoin Meeting Now \n\nQuestions\nPlease contact info@brma.com \n\n\n\n\n\n\n\n \nVisit brma.com to learn more about our the benefits of becoming a member.
URL:https://brma.com/event/control-based-resilience/
LOCATION:Virtual Experience
CATEGORIES:BRMA Events,BRMA Webinars
ATTACH;FMTTYPE=image/png:https://brma.com/wp-content/uploads/2024/03/Webinar-April-25-11am-PT-low-res.png
ORGANIZER;CN="BRMA":MAILTO:info@brma.com
END:VEVENT
END:VCALENDAR