BEGIN:VCALENDAR
VERSION:2.0
PRODID:-//BRMA - ECPv6.15.20//NONSGML v1.0//EN
CALSCALE:GREGORIAN
METHOD:PUBLISH
X-WR-CALNAME:BRMA
X-ORIGINAL-URL:https://brma.com
X-WR-CALDESC:Events for BRMA
REFRESH-INTERVAL;VALUE=DURATION:PT1H
X-Robots-Tag:noindex
X-PUBLISHED-TTL:PT1H
BEGIN:VTIMEZONE
TZID:America/Los_Angeles
BEGIN:DAYLIGHT
TZOFFSETFROM:-0800
TZOFFSETTO:-0700
TZNAME:PDT
DTSTART:20220313T100000
END:DAYLIGHT
BEGIN:STANDARD
TZOFFSETFROM:-0700
TZOFFSETTO:-0800
TZNAME:PST
DTSTART:20221106T090000
END:STANDARD
BEGIN:DAYLIGHT
TZOFFSETFROM:-0800
TZOFFSETTO:-0700
TZNAME:PDT
DTSTART:20230312T100000
END:DAYLIGHT
BEGIN:STANDARD
TZOFFSETFROM:-0700
TZOFFSETTO:-0800
TZNAME:PST
DTSTART:20231105T090000
END:STANDARD
BEGIN:DAYLIGHT
TZOFFSETFROM:-0800
TZOFFSETTO:-0700
TZNAME:PDT
DTSTART:20240310T100000
END:DAYLIGHT
BEGIN:STANDARD
TZOFFSETFROM:-0700
TZOFFSETTO:-0800
TZNAME:PST
DTSTART:20241103T090000
END:STANDARD
END:VTIMEZONE
BEGIN:VEVENT
DTSTART;TZID=America/Los_Angeles:20231109T113000
DTEND;TZID=America/Los_Angeles:20231109T130000
DTSTAMP:20260425T051018
CREATED:20231011T235243Z
LAST-MODIFIED:20231108T205826Z
UID:10244-1699529400-1699534800@brma.com
SUMMARY:Dealing with Resilience Industry Layoffs: Proactive Preparation & Navigating the Aftermath
DESCRIPTION:Dealing with Resilience Industry Layoffs: Proactive Preparation & Navigating the Aftermath\nEver worried about layoffs in the resilience industry? We’ve got something lined up just for you! Join Shane Mathew\, Founder and Managing Partner at Stone Risk Consulting\, to hear about his personal journey\, including the proactive steps he took prior to his layoff from Zoom Video Communications. Shane will shed light on the critical issue of layoffs and underscore the essence of anticipation and adaptability. By the end of this session\, you will understand how to actively gear up for possible layoffs and steer through the aftermath. This knowledge is vital for ensuring a lasting and successful career in the resilience industry. \nDate: November 9th \nTime: 11:30am-1pm PST \nVenue: Virtual Program \nRegistration\nPlease use the button below to register for the event.  Register\n\nGuests\nCome find out more about BRMA.  This social event is free\, please register using the button above.  Should you have any questions in the meantime\, please contact program@brma.com. \nQuestions\nPlease contact program@brma.com \n\n\n\n\n\n\n\n \nVisit brma.com to learn more about our the benefits of becoming a member.
URL:https://brma.com/event/dealing-with-resilience-industry-layoffs-proactive-preparation-navigating-the-aftermath/
CATEGORIES:BRMA Webinars
ATTACH;FMTTYPE=image/png:https://brma.com/wp-content/uploads/2023/10/brma_dealinglayoffs.png
END:VEVENT
END:VCALENDAR