BEGIN:VCALENDAR
VERSION:2.0
PRODID:-//BRMA - ECPv6.15.20//NONSGML v1.0//EN
CALSCALE:GREGORIAN
METHOD:PUBLISH
X-ORIGINAL-URL:https://brma.com
X-WR-CALDESC:Events for BRMA
REFRESH-INTERVAL;VALUE=DURATION:PT1H
X-Robots-Tag:noindex
X-PUBLISHED-TTL:PT1H
BEGIN:VTIMEZONE
TZID:America/Los_Angeles
BEGIN:DAYLIGHT
TZOFFSETFROM:-0800
TZOFFSETTO:-0700
TZNAME:PDT
DTSTART:20220313T100000
END:DAYLIGHT
BEGIN:STANDARD
TZOFFSETFROM:-0700
TZOFFSETTO:-0800
TZNAME:PST
DTSTART:20221106T090000
END:STANDARD
BEGIN:DAYLIGHT
TZOFFSETFROM:-0800
TZOFFSETTO:-0700
TZNAME:PDT
DTSTART:20230312T100000
END:DAYLIGHT
BEGIN:STANDARD
TZOFFSETFROM:-0700
TZOFFSETTO:-0800
TZNAME:PST
DTSTART:20231105T090000
END:STANDARD
BEGIN:DAYLIGHT
TZOFFSETFROM:-0800
TZOFFSETTO:-0700
TZNAME:PDT
DTSTART:20240310T100000
END:DAYLIGHT
BEGIN:STANDARD
TZOFFSETFROM:-0700
TZOFFSETTO:-0800
TZNAME:PST
DTSTART:20241103T090000
END:STANDARD
END:VTIMEZONE
BEGIN:VEVENT
DTSTART;TZID=America/Los_Angeles:20230420T110000
DTEND;TZID=America/Los_Angeles:20230420T120000
DTSTAMP:20260425T172305
CREATED:20230406T055436Z
LAST-MODIFIED:20230417T162921Z
UID:9543-1681988400-1681992000@brma.com
SUMMARY:BRMA Webinar | Expanding Your Program to Include Emerging Threats
DESCRIPTION:Expanding Your Program to Include Emerging Threats | Presented by Lisa Jones & Mark Hoffman\nTraditionally\, business continuity / resilience programs focus on loss of facilities\, systems\, employees\, and suppliers. Today\, emerging risks and threats must be considered as potential business interruption.Some risks are universal\, and pose a threat to every company\, while others are organization specific.No matter which risks or threats apply to an organization\, it is important for resilience programs to plan if the risk becomes reality.This session will look at global emerging threats that your resilience program may want to consider including climate change\, the rise of nationalism and civil unrest\, and DEI. We will also discuss a several threats which have transitioned from “emerging” to “common” risks.We will provide tips for expanding your program’s focus to deal with global and organizational risk and the value of integrating business continuity and crisis management to mitigate disruption impacts. \nThree takeaways:• Why resilience programs need to expand their view to include emerging threats.• How to identify what organization specific risks and threats to include in your program.• The value of integrating business continuity and crisis management disciplines to mitigateimpact. \n\nSpeaker Spotlight: Lisa Jones and Mark Hoffman\n\nAgenda:\n11:00am-12:00pm PST | Presentation & Conversation \nWebinar Registration\nA Signup email will be sent directly to BRMA members prior to the event. BRMA Members: Please login for additional registration information. In addition to the signup email sent directly to BRMA Members\, use the button below to register as well. \n Register\n  \nAfter registering\, you will receive a confirmation email containing information about joining the webinar. \nGuests\nWish to attend\, and are not a member? Please contact program@brma.com. \nQuestions\nPlease contact program@brma.com \n\n\n\n\n\n\n\n\n\n\nVisit brma.com to learn more about our the benefits of becoming a member.
URL:https://brma.com/event/brma-webinar-expanding-your-program-to-include-emerging-threats/
LOCATION:Webinar
CATEGORIES:BRMA Webinars
ATTACH;FMTTYPE=image/png:https://brma.com/wp-content/uploads/2023/04/Expanding-Your-Program-to-Include-Emerging-Threats-1.png
ORGANIZER;CN="BRMA Program Director":MAILTO:program@brma.com
END:VEVENT
END:VCALENDAR