BEGIN:VCALENDAR
VERSION:2.0
PRODID:-//BRMA - ECPv6.15.20//NONSGML v1.0//EN
CALSCALE:GREGORIAN
METHOD:PUBLISH
X-WR-CALNAME:BRMA
X-ORIGINAL-URL:https://brma.com
X-WR-CALDESC:Events for BRMA
REFRESH-INTERVAL;VALUE=DURATION:PT1H
X-Robots-Tag:noindex
X-PUBLISHED-TTL:PT1H
BEGIN:VTIMEZONE
TZID:America/Los_Angeles
BEGIN:DAYLIGHT
TZOFFSETFROM:-0800
TZOFFSETTO:-0700
TZNAME:PDT
DTSTART:20220313T100000
END:DAYLIGHT
BEGIN:STANDARD
TZOFFSETFROM:-0700
TZOFFSETTO:-0800
TZNAME:PST
DTSTART:20221106T090000
END:STANDARD
BEGIN:DAYLIGHT
TZOFFSETFROM:-0800
TZOFFSETTO:-0700
TZNAME:PDT
DTSTART:20230312T100000
END:DAYLIGHT
BEGIN:STANDARD
TZOFFSETFROM:-0700
TZOFFSETTO:-0800
TZNAME:PST
DTSTART:20231105T090000
END:STANDARD
BEGIN:DAYLIGHT
TZOFFSETFROM:-0800
TZOFFSETTO:-0700
TZNAME:PDT
DTSTART:20240310T100000
END:DAYLIGHT
BEGIN:STANDARD
TZOFFSETFROM:-0700
TZOFFSETTO:-0800
TZNAME:PST
DTSTART:20241103T090000
END:STANDARD
END:VTIMEZONE
BEGIN:VEVENT
DTSTART;TZID=America/Los_Angeles:20231006T120000
DTEND;TZID=America/Los_Angeles:20231006T150000
DTSTAMP:20260425T051329
CREATED:20230907T060749Z
LAST-MODIFIED:20230907T060749Z
UID:10224-1696593600-1696604400@brma.com
SUMMARY:From Our Partners - ACP SF Bay Area Chapter - End of Summer Picnic
DESCRIPTION:From Our Partners – ACP SF Bay Area Chapter – End of Summer Picnic\nOur ACP San Francisco Bay Area Chapter is inviting all BRMA members for an End of Summer/Fall Picnic! \nDate: October 6th \nTime: 12:00PM – 3:00 PM Venue: Alameda Crown Memorial Beach City View Site Address: Eighth Street and Otis Drive\, Alameda\, CA   Bring a friend and come network with your Bay Area Business Continuity Friends! https://www.ebparks.org/parks/crown-beach   \nRegistration\nPlease use the button below to register for the event.  Register\n\nGuests\nCome find out more about BRMA.  This social event is free\, please register using the button above.  Should you have any questions in the meantime\, please contact program@brma.com. \nQuestions\nPlease contact program@brma.com \n\n\n\n\n\n\n\n \nVisit brma.com to learn more about our the benefits of becoming a member.
URL:https://brma.com/event/from-our-partners-acp-sf-bay-area-chapter-end-of-summer-picnic/
CATEGORIES:BRMA Special Events
ATTACH;FMTTYPE=image/png:https://brma.com/wp-content/uploads/2023/09/AlamedaCrownMemorialBeach.png
END:VEVENT
END:VCALENDAR