BEGIN:VCALENDAR
VERSION:2.0
PRODID:-//BRMA - ECPv6.15.20//NONSGML v1.0//EN
CALSCALE:GREGORIAN
METHOD:PUBLISH
X-ORIGINAL-URL:https://brma.com
X-WR-CALDESC:Events for BRMA
REFRESH-INTERVAL;VALUE=DURATION:PT1H
X-Robots-Tag:noindex
X-PUBLISHED-TTL:PT1H
BEGIN:VTIMEZONE
TZID:America/Los_Angeles
BEGIN:DAYLIGHT
TZOFFSETFROM:-0800
TZOFFSETTO:-0700
TZNAME:PDT
DTSTART:20240310T100000
END:DAYLIGHT
BEGIN:STANDARD
TZOFFSETFROM:-0700
TZOFFSETTO:-0800
TZNAME:PST
DTSTART:20241103T090000
END:STANDARD
BEGIN:DAYLIGHT
TZOFFSETFROM:-0800
TZOFFSETTO:-0700
TZNAME:PDT
DTSTART:20250309T100000
END:DAYLIGHT
BEGIN:STANDARD
TZOFFSETFROM:-0700
TZOFFSETTO:-0800
TZNAME:PST
DTSTART:20251102T090000
END:STANDARD
BEGIN:DAYLIGHT
TZOFFSETFROM:-0800
TZOFFSETTO:-0700
TZNAME:PDT
DTSTART:20260308T100000
END:DAYLIGHT
BEGIN:STANDARD
TZOFFSETFROM:-0700
TZOFFSETTO:-0800
TZNAME:PST
DTSTART:20261101T090000
END:STANDARD
END:VTIMEZONE
BEGIN:VEVENT
DTSTART;VALUE=DATE:20251101
DTEND;VALUE=DATE:20251201
DTSTAMP:20260423T161030
CREATED:20251021T161434Z
LAST-MODIFIED:20251021T161434Z
UID:11069-1761955200-1764547199@brma.com
SUMMARY:2025 BRMA Elections
DESCRIPTION:Join Us and Make Your Voice Heard!\nAre you passionate about advancing your career and making a significant impact in your field? Do you want to enhance your leadership skills\, expand your professional network\, and contribute to a dynamic and resilient community? Join our organization and consider running for one of our Board of Directors positions today! Serving on our board is a fantastic opportunity to drive innovation\, gain valuable experience\, and help shape a stronger future for all. \nGo to our elections page to find out more https://brma.com/2025-brma-elections/ \n\n  \n\nQuestions\nPlease contact info@brma.com
URL:https://brma.com/event/november-2025-is-brma-election-month/
CATEGORIES:BRMA Events,BRMA In-Person Meetings,BRMA Special Events,Conferences and Meetings
ATTACH;FMTTYPE=image/jpeg:https://brma.com/wp-content/uploads/2025/10/brma_election_2025.jpg
ORGANIZER;CN="BRMA":MAILTO:info@brma.com
END:VEVENT
END:VCALENDAR