BEGIN:VCALENDAR
VERSION:2.0
PRODID:-//BRMA - ECPv6.15.20//NONSGML v1.0//EN
CALSCALE:GREGORIAN
METHOD:PUBLISH
X-WR-CALNAME:BRMA
X-ORIGINAL-URL:https://brma.com
X-WR-CALDESC:Events for BRMA
REFRESH-INTERVAL;VALUE=DURATION:PT1H
X-Robots-Tag:noindex
X-PUBLISHED-TTL:PT1H
BEGIN:VTIMEZONE
TZID:America/Los_Angeles
BEGIN:DAYLIGHT
TZOFFSETFROM:-0800
TZOFFSETTO:-0700
TZNAME:PDT
DTSTART:20230312T100000
END:DAYLIGHT
BEGIN:STANDARD
TZOFFSETFROM:-0700
TZOFFSETTO:-0800
TZNAME:PST
DTSTART:20231105T090000
END:STANDARD
BEGIN:DAYLIGHT
TZOFFSETFROM:-0800
TZOFFSETTO:-0700
TZNAME:PDT
DTSTART:20240310T100000
END:DAYLIGHT
BEGIN:STANDARD
TZOFFSETFROM:-0700
TZOFFSETTO:-0800
TZNAME:PST
DTSTART:20241103T090000
END:STANDARD
BEGIN:DAYLIGHT
TZOFFSETFROM:-0800
TZOFFSETTO:-0700
TZNAME:PDT
DTSTART:20250309T100000
END:DAYLIGHT
BEGIN:STANDARD
TZOFFSETFROM:-0700
TZOFFSETTO:-0800
TZNAME:PST
DTSTART:20251102T090000
END:STANDARD
END:VTIMEZONE
BEGIN:VEVENT
DTSTART;TZID=America/Los_Angeles:20241107T160000
DTEND;TZID=America/Los_Angeles:20241107T183000
DTSTAMP:20260424T092141
CREATED:20240712T152454Z
LAST-MODIFIED:20241101T223911Z
UID:10780-1730995200-1731004200@brma.com
SUMMARY:CANCELLED - LEAP With BRMA Networking Happy Hour - November Edition
DESCRIPTION:NEXT LEAP REDWOOD CITY!! \nJoin us for the FIFTH installment of our highly anticipated networking happy hour event series\, where the DRAGON leaps from city to city\, spreading joy and camaraderie across the San Francisco Bay Area and Northern California. \nJoin Us for LEAP with BRMA June Networking Happy Hour! \nWhen: Thursday\, November 7\, 2024 \nTime: 4:00 PM – 6:30 PM PT \nWhere: Mazra\, 2021 Broadway Street\, Redwood City\, CA 94063 \nCelebrate this transformative year by connecting with fellow professionals in a relaxed and casual atmosphere. Enjoy craft brews\, delicious appetizers\, and stimulating conversation. Expand your network\, forge new connections\, discover potential collaborations\, and LEAP with BRMA! \nSign up here: \nPlease use the button below to register for the event. \n Register\n\nGuests\nCome find out more about BRMA.  This social event is free\, please register using the button above.  Should you have any questions in the meantime\, please contact info@brma.com. \nQuestions\nPlease contact info@brma.com \n\n\n\n\n\n\n\n \nVisit brma.com to learn more about our the benefits of becoming a member.
URL:https://brma.com/event/leap-with-brma-networking-happy-hour-november-edition/
LOCATION:Mazra\, 2021 Broadway Street\, Redwood City\, CA\, 94063\, United States
CATEGORIES:BRMA Events,BRMA In-Person Meetings
ATTACH;FMTTYPE=image/png:https://brma.com/wp-content/uploads/2024/07/LEAP-with-BRMA-in-2024-Redwood-City.png
ORGANIZER;CN="BRMA":MAILTO:info@brma.com
END:VEVENT
END:VCALENDAR