BEGIN:VCALENDAR
VERSION:2.0
PRODID:-//BRMA - ECPv6.15.20//NONSGML v1.0//EN
CALSCALE:GREGORIAN
METHOD:PUBLISH
X-WR-CALNAME:BRMA
X-ORIGINAL-URL:https://brma.com
X-WR-CALDESC:Events for BRMA
REFRESH-INTERVAL;VALUE=DURATION:PT1H
X-Robots-Tag:noindex
X-PUBLISHED-TTL:PT1H
BEGIN:VTIMEZONE
TZID:America/Los_Angeles
BEGIN:DAYLIGHT
TZOFFSETFROM:-0800
TZOFFSETTO:-0700
TZNAME:PDT
DTSTART:20230312T100000
END:DAYLIGHT
BEGIN:STANDARD
TZOFFSETFROM:-0700
TZOFFSETTO:-0800
TZNAME:PST
DTSTART:20231105T090000
END:STANDARD
BEGIN:DAYLIGHT
TZOFFSETFROM:-0800
TZOFFSETTO:-0700
TZNAME:PDT
DTSTART:20240310T100000
END:DAYLIGHT
BEGIN:STANDARD
TZOFFSETFROM:-0700
TZOFFSETTO:-0800
TZNAME:PST
DTSTART:20241103T090000
END:STANDARD
BEGIN:DAYLIGHT
TZOFFSETFROM:-0800
TZOFFSETTO:-0700
TZNAME:PDT
DTSTART:20250309T100000
END:DAYLIGHT
BEGIN:STANDARD
TZOFFSETFROM:-0700
TZOFFSETTO:-0800
TZNAME:PST
DTSTART:20251102T090000
END:STANDARD
END:VTIMEZONE
BEGIN:VEVENT
DTSTART;TZID=America/Los_Angeles:20240418T123000
DTEND;TZID=America/Los_Angeles:20240418T143000
DTSTAMP:20260424T205222
CREATED:20240409T235232Z
LAST-MODIFIED:20240410T001005Z
UID:10607-1713443400-1713450600@brma.com
SUMMARY:SF Falling: A Live Earthquake Tabletop Exercise
DESCRIPTION:BRMA Partner Event with ASIS\nParticipate in an Engaging\, Impactful\, Earthquake Preparedness Workshop \nDate: Thursday\, April 18thTime: 12:30 PM – 2:30 PM PTLocation: eBay San Jose\, CA \nMore info and register here \nMost organizations are not prepared to manage seismic risks. Earthquake preparedness is more than a matter of regulatory compliance; it involves assessing the resilience of your infrastructure against earthquakes\, emergency response coordination with local authorities and stakeholders\, and business continuity planning to develop strategies to maintain essential operations and minimize disruptions following an earthquake. \nJoin this in-person interactive tabletop exercise on April 18th\, 2024\, led by Rob Burton\, Principal at PreparedEx\, and Chris Hurst\, Vice President of Global Risk and Intelligence Services at OnSolve to improve your organization’s readiness for earthquakes. \nAttendees will learn: \n\nWhat an effective and engaging tabletop exercise looks like\nA framework for designing and delivering your own earthquake or other simulation exercise\nInsights to update emergency response plans and business continuity plans\nThe importance of timely and accurate intelligence and proactively documenting event information\nWhy you need a means to quickly communicate internally and externally\n\nAre You Ready to Strengthen Your Earthquake Preparedness? Bring your team and work through this highly realistic scenario!  This tabletop exercise is essential for training and evaluating corporate leaders\, law enforcement bodies\, security teams\, executive groups\, and other relevant parties. \nHosts:Rob Burton\, CEO\, Preparedex and Chris Hurst\, VP Global Risk and Intelligence Services\, Onsolve \n  \n\nQuestions\nPlease contact info@brma.com \n\n\n\n\n\n\n\n \nVisit brma.com to learn more about our the benefits of becoming a member.
URL:https://brma.com/event/sf-falling-a-live-earthquake-tabletop-exercise/
LOCATION:Virtual Experience
CATEGORIES:BRMA Events,BRMA In-Person Meetings
ATTACH;FMTTYPE=image/png:https://brma.com/wp-content/uploads/2024/04/sfasis_org__6_.png
ORGANIZER;CN="BRMA":MAILTO:info@brma.com
END:VEVENT
END:VCALENDAR