BEGIN:VCALENDAR
VERSION:2.0
PRODID:-//BRMA - ECPv6.15.20//NONSGML v1.0//EN
CALSCALE:GREGORIAN
METHOD:PUBLISH
X-ORIGINAL-URL:https://brma.com
X-WR-CALDESC:Events for BRMA
REFRESH-INTERVAL;VALUE=DURATION:PT1H
X-Robots-Tag:noindex
X-PUBLISHED-TTL:PT1H
BEGIN:VTIMEZONE
TZID:America/Los_Angeles
BEGIN:DAYLIGHT
TZOFFSETFROM:-0800
TZOFFSETTO:-0700
TZNAME:PDT
DTSTART:20240310T100000
END:DAYLIGHT
BEGIN:STANDARD
TZOFFSETFROM:-0700
TZOFFSETTO:-0800
TZNAME:PST
DTSTART:20241103T090000
END:STANDARD
BEGIN:DAYLIGHT
TZOFFSETFROM:-0800
TZOFFSETTO:-0700
TZNAME:PDT
DTSTART:20250309T100000
END:DAYLIGHT
BEGIN:STANDARD
TZOFFSETFROM:-0700
TZOFFSETTO:-0800
TZNAME:PST
DTSTART:20251102T090000
END:STANDARD
BEGIN:DAYLIGHT
TZOFFSETFROM:-0800
TZOFFSETTO:-0700
TZNAME:PDT
DTSTART:20260308T100000
END:DAYLIGHT
BEGIN:STANDARD
TZOFFSETFROM:-0700
TZOFFSETTO:-0800
TZNAME:PST
DTSTART:20261101T090000
END:STANDARD
END:VTIMEZONE
BEGIN:VEVENT
DTSTART;TZID=America/Los_Angeles:20251023T120000
DTEND;TZID=America/Los_Angeles:20251023T160000
DTSTAMP:20260423T160149
CREATED:20251004T000027Z
LAST-MODIFIED:20251006T235114Z
UID:11050-1761220800-1761235200@brma.com
SUMMARY:The Future of Resiliency: Risk\, Threats\, and Intelligence
DESCRIPTION:This event is proudly sponsored by Riskonnect\, with valued partnership from AlertMedia\, and hosted onsite at Applied Materials.Join us for a lunch and learn event focused on The Future of Resiliency: Risk\, Threats\, and Intelligence \n\nDetails: \n\nDate: October 23\, 2025\nTime: 12:00 PM – 4:00 PM\n\nRegistration Link: Click Here  \n\nRegistration deadline Tuesday\, October 22\, 2025\n\n\nEvent Agenda: \nRiskonnect – Corporate Sponsor \n\nRiskonnect Demo with TJ Heginbotham\nGeopolitical Risks with Jamie Goodloe\n\nAlert Media – Partner \n\nThreat Intelligence with Sara Pratley\n\nApplied Materials – Event Host \n\nCollaborative Cyber Resiliency with Chris Chaisson\n\n  \n\nQuestions\nPlease contact info@brma.com
URL:https://brma.com/event/the-future-of-resiliency-risk-threats-and-intelligence/
LOCATION:Applied Materials\, 3225 Oakmead Drive\, Building 50\, Santa Clara\, CA\, 95051\, United States
CATEGORIES:BRMA Events,BRMA In-Person Meetings,BRMA Special Events,BRMA Webinars,Conferences and Meetings
ATTACH;FMTTYPE=image/png:https://brma.com/wp-content/uploads/2025/10/Screenshot-2025-10-01-at-11.28.22-PM.png
ORGANIZER;CN="BRMA":MAILTO:info@brma.com
END:VEVENT
END:VCALENDAR