BEGIN:VCALENDAR
VERSION:2.0
PRODID:-//BRMA - ECPv6.15.20//NONSGML v1.0//EN
CALSCALE:GREGORIAN
METHOD:PUBLISH
X-WR-CALNAME:BRMA
X-ORIGINAL-URL:https://brma.com
X-WR-CALDESC:Events for BRMA
REFRESH-INTERVAL;VALUE=DURATION:PT1H
X-Robots-Tag:noindex
X-PUBLISHED-TTL:PT1H
BEGIN:VTIMEZONE
TZID:America/Los_Angeles
BEGIN:DAYLIGHT
TZOFFSETFROM:-0800
TZOFFSETTO:-0700
TZNAME:PDT
DTSTART:20220313T100000
END:DAYLIGHT
BEGIN:STANDARD
TZOFFSETFROM:-0700
TZOFFSETTO:-0800
TZNAME:PST
DTSTART:20221106T090000
END:STANDARD
BEGIN:DAYLIGHT
TZOFFSETFROM:-0800
TZOFFSETTO:-0700
TZNAME:PDT
DTSTART:20230312T100000
END:DAYLIGHT
BEGIN:STANDARD
TZOFFSETFROM:-0700
TZOFFSETTO:-0800
TZNAME:PST
DTSTART:20231105T090000
END:STANDARD
BEGIN:DAYLIGHT
TZOFFSETFROM:-0800
TZOFFSETTO:-0700
TZNAME:PDT
DTSTART:20240310T100000
END:DAYLIGHT
BEGIN:STANDARD
TZOFFSETFROM:-0700
TZOFFSETTO:-0800
TZNAME:PST
DTSTART:20241103T090000
END:STANDARD
END:VTIMEZONE
BEGIN:VEVENT
DTSTART;TZID=America/Los_Angeles:20230823T120000
DTEND;TZID=America/Los_Angeles:20230823T163000
DTSTAMP:20260425T075039
CREATED:20230627T221440Z
LAST-MODIFIED:20230803T161518Z
UID:9701-1692792000-1692808200@brma.com
SUMMARY:Summer Camp Series | Fusion Innovation Day and Networking Happy Hour (San Francisco)
DESCRIPTION:Summer Camp Series | Fusion Innovation Day and Networking Happy Hour (San Francisco) hosted by Fusion Risk Management and BRMA\n\n\n\nFusion and BRMA are excited to invite you to an Innovation Day in San Francisco! \nThis half-day innovation event is an in-person\, complimentary event offered to industry professionals in the Bay Area. The agenda includes interactive sessions from industry experts\, product demonstrations\, a resilience spotlight\, a session on career resilience and an industry leaders panel. There will also be several networking opportunities throughout the event. Full agenda here. \n\n\n\nDate: August 23rd \nTime: 12:00PM – 4:30 PM followed by happy hour \nVenue: Salesforce\, San Francisco \nAddress: 50 Fremont Street\, San Francisco\, CA 94105\, 3rd Floor / Rooms C04 & C05  \nRegistration\nPlease use the button below to register for the event. \n Register\n\nGuests\nCome find out more about BRMA.  This social event is free\, please register using the button above.  Should you have any questions in the meantime\, please contact program@brma.com. \nQuestions\nPlease contact program@brma.com \n\n\n\n\n\n\n\n\n \n\nVisit brma.com to learn more about our the benefits of becoming a member.
URL:https://brma.com/event/summer-camp-series-fusion-innovation-day-and-networking-happy-hour-san-francisco/
LOCATION:Salesforce\, 50 Fremont Street\, San Francisco\, CA\, 94105\, United States
CATEGORIES:BRMA In-Person Meetings
ATTACH;FMTTYPE=image/png:https://brma.com/wp-content/uploads/2023/06/BRMASummerEventFusionInnovation.png
ORGANIZER;CN="BRMA Program Director":MAILTO:program@brma.com
END:VEVENT
END:VCALENDAR