BEGIN:VCALENDAR
VERSION:2.0
PRODID:-//BRMA - ECPv6.15.20//NONSGML v1.0//EN
CALSCALE:GREGORIAN
METHOD:PUBLISH
X-WR-CALNAME:BRMA
X-ORIGINAL-URL:https://brma.com
X-WR-CALDESC:Events for BRMA
REFRESH-INTERVAL;VALUE=DURATION:PT1H
X-Robots-Tag:noindex
X-PUBLISHED-TTL:PT1H
BEGIN:VTIMEZONE
TZID:America/Los_Angeles
BEGIN:DAYLIGHT
TZOFFSETFROM:-0800
TZOFFSETTO:-0700
TZNAME:PDT
DTSTART:20250309T100000
END:DAYLIGHT
BEGIN:STANDARD
TZOFFSETFROM:-0700
TZOFFSETTO:-0800
TZNAME:PST
DTSTART:20251102T090000
END:STANDARD
BEGIN:DAYLIGHT
TZOFFSETFROM:-0800
TZOFFSETTO:-0700
TZNAME:PDT
DTSTART:20260308T100000
END:DAYLIGHT
BEGIN:STANDARD
TZOFFSETFROM:-0700
TZOFFSETTO:-0800
TZNAME:PST
DTSTART:20261101T090000
END:STANDARD
BEGIN:DAYLIGHT
TZOFFSETFROM:-0800
TZOFFSETTO:-0700
TZNAME:PDT
DTSTART:20270314T100000
END:DAYLIGHT
BEGIN:STANDARD
TZOFFSETFROM:-0700
TZOFFSETTO:-0800
TZNAME:PST
DTSTART:20271107T090000
END:STANDARD
END:VTIMEZONE
BEGIN:VEVENT
DTSTART;TZID=America/Los_Angeles:20260521T120000
DTEND;TZID=America/Los_Angeles:20260521T131500
DTSTAMP:20260423T044543
CREATED:20260219T203340Z
LAST-MODIFIED:20260327T191356Z
UID:11113-1779364800-1779369300@brma.com
SUMMARY:Third-Party Resilience When Risk Doesn't Stay Outsourced
DESCRIPTION:Save the Date \nMay 21\, 2026 \nThird-Party Resilience When Risk Doesn’t Stay Outsourced \nMore information to come!
URL:https://brma.com/event/third-party-resilience-when-risk-doesnt-stay-outsourced/
CATEGORIES:BRMA Events,Conferences and Meetings
ATTACH;FMTTYPE=image/png:https://brma.com/wp-content/uploads/2026/02/May-21_Sherlyn-Burris.png
END:VEVENT
BEGIN:VEVENT
DTSTART;TZID=America/Los_Angeles:20260618T120000
DTEND;TZID=America/Los_Angeles:20260618T143000
DTSTAMP:20260423T044543
CREATED:20260219T203535Z
LAST-MODIFIED:20260227T203021Z
UID:11116-1781784000-1781793000@brma.com
SUMMARY:Threat Intelligence
DESCRIPTION:Save the Date \nJune 18\, 2026 \nThreat Intelligence \nMore information to come!
URL:https://brma.com/event/threat-intelligence/
CATEGORIES:BRMA Events,Conferences and Meetings
ATTACH;FMTTYPE=image/png:https://brma.com/wp-content/uploads/2026/02/Save-the-Date-4.png
END:VEVENT
BEGIN:VEVENT
DTSTART;TZID=America/Los_Angeles:20260716T120000
DTEND;TZID=America/Los_Angeles:20260716T130000
DTSTAMP:20260423T044543
CREATED:20260219T203731Z
LAST-MODIFIED:20260327T191600Z
UID:11119-1784203200-1784206800@brma.com
SUMMARY:Rethink Maturity\, Measure Better
DESCRIPTION:Save the Date \nJuly 16\, 2026 \nRethink Maturity\, Measure Better \nMore information to come!
URL:https://brma.com/event/rethink-maturity-measure-better/
CATEGORIES:BRMA Events,Conferences and Meetings
ATTACH;FMTTYPE=image/png:https://brma.com/wp-content/uploads/2026/02/July-16_Fiona-and-Victor.png
END:VEVENT
END:VCALENDAR