BEGIN:VCALENDAR
VERSION:2.0
PRODID:-//BRMA - ECPv6.15.20//NONSGML v1.0//EN
CALSCALE:GREGORIAN
METHOD:PUBLISH
X-ORIGINAL-URL:https://brma.com
X-WR-CALDESC:Events for BRMA
REFRESH-INTERVAL;VALUE=DURATION:PT1H
X-Robots-Tag:noindex
X-PUBLISHED-TTL:PT1H
BEGIN:VTIMEZONE
TZID:America/Los_Angeles
BEGIN:DAYLIGHT
TZOFFSETFROM:-0800
TZOFFSETTO:-0700
TZNAME:PDT
DTSTART:20230312T100000
END:DAYLIGHT
BEGIN:STANDARD
TZOFFSETFROM:-0700
TZOFFSETTO:-0800
TZNAME:PST
DTSTART:20231105T090000
END:STANDARD
BEGIN:DAYLIGHT
TZOFFSETFROM:-0800
TZOFFSETTO:-0700
TZNAME:PDT
DTSTART:20240310T100000
END:DAYLIGHT
BEGIN:STANDARD
TZOFFSETFROM:-0700
TZOFFSETTO:-0800
TZNAME:PST
DTSTART:20241103T090000
END:STANDARD
BEGIN:DAYLIGHT
TZOFFSETFROM:-0800
TZOFFSETTO:-0700
TZNAME:PDT
DTSTART:20250309T100000
END:DAYLIGHT
BEGIN:STANDARD
TZOFFSETFROM:-0700
TZOFFSETTO:-0800
TZNAME:PST
DTSTART:20251102T090000
END:STANDARD
END:VTIMEZONE
BEGIN:VEVENT
DTSTART;TZID=America/Los_Angeles:20240627T160000
DTEND;TZID=America/Los_Angeles:20240627T183000
DTSTAMP:20260424T114556
CREATED:20240503T214931Z
LAST-MODIFIED:20240606T181733Z
UID:10632-1719504000-1719513000@brma.com
SUMMARY:LEAP With BRMA Networking Happy Hour - June Edition
DESCRIPTION:NEXT LEAP PLEASANTON!! \nJoin us for the THIRD installment of our highly anticipated networking happy hour event series\, where the DRAGON leaps from city to city\, spreading joy and camaraderie across the San Francisco Bay Area and Northern California. \nJoin Us for LEAP with BRMA June Networking Happy Hour! \nWhen: Thursday\, June 27\, 2024 \nTime: 4:00 PM – 6:30 PM PT \nWhere: Oasis Restaurant & Wine Lounge\, 780 Main St\, Pleasanton\, CA 94566 \nCelebrate this transformative year by connecting with fellow professionals in a relaxed and casual atmosphere. Enjoy craft brews\, delicious appetizers\, and stimulating conversation. Expand your network\, forge new connections\, discover potential collaborations\, and LEAP with BRMA! \nSign up here: \nPlease use the button below to register for the event. \n Register\n\nGuests\nCome find out more about BRMA.  This social event is free\, please register using the button above.  Should you have any questions in the meantime\, please contact info@brma.com. \nQuestions\nPlease contact info@brma.com \n\n\n\n\n\n\n\n \nVisit brma.com to learn more about our the benefits of becoming a member.
URL:https://brma.com/event/leap-with-brma-networking-happy-hour-june-edition/
LOCATION:Oasis\, 780 Main St\, Pleasanton\, 94566\, United States
CATEGORIES:BRMA Events,BRMA In-Person Meetings
ATTACH;FMTTYPE=image/png:https://brma.com/wp-content/uploads/2024/05/LEAP-with-BRMA-in-2024-Pleasanton.png
ORGANIZER;CN="BRMA":MAILTO:info@brma.com
END:VEVENT
END:VCALENDAR