BEGIN:VCALENDAR
VERSION:2.0
PRODID:-//BRMA - ECPv6.15.20//NONSGML v1.0//EN
CALSCALE:GREGORIAN
METHOD:PUBLISH
X-WR-CALNAME:BRMA
X-ORIGINAL-URL:https://brma.com
X-WR-CALDESC:Events for BRMA
REFRESH-INTERVAL;VALUE=DURATION:PT1H
X-Robots-Tag:noindex
X-PUBLISHED-TTL:PT1H
BEGIN:VTIMEZONE
TZID:America/Los_Angeles
BEGIN:DAYLIGHT
TZOFFSETFROM:-0800
TZOFFSETTO:-0700
TZNAME:PDT
DTSTART:20220313T100000
END:DAYLIGHT
BEGIN:STANDARD
TZOFFSETFROM:-0700
TZOFFSETTO:-0800
TZNAME:PST
DTSTART:20221106T090000
END:STANDARD
BEGIN:DAYLIGHT
TZOFFSETFROM:-0800
TZOFFSETTO:-0700
TZNAME:PDT
DTSTART:20230312T100000
END:DAYLIGHT
BEGIN:STANDARD
TZOFFSETFROM:-0700
TZOFFSETTO:-0800
TZNAME:PST
DTSTART:20231105T090000
END:STANDARD
BEGIN:DAYLIGHT
TZOFFSETFROM:-0800
TZOFFSETTO:-0700
TZNAME:PDT
DTSTART:20240310T100000
END:DAYLIGHT
BEGIN:STANDARD
TZOFFSETFROM:-0700
TZOFFSETTO:-0800
TZNAME:PST
DTSTART:20241103T090000
END:STANDARD
END:VTIMEZONE
BEGIN:VEVENT
DTSTART;TZID=America/Los_Angeles:20230629T163000
DTEND;TZID=America/Los_Angeles:20230629T203000
DTSTAMP:20260425T043802
CREATED:20230602T061543Z
LAST-MODIFIED:20230628T194521Z
UID:9629-1688056200-1688070600@brma.com
SUMMARY:Summer Camp Series | Social at Milagros (Redwood City)
DESCRIPTION:Summer Camp Series | Social at Milagros (Redwood City)\nBRMA Members and Guests\, \nJoin us for our first BRMA Summer Camp Series kickoff event.  This will be an evening filled with networking\, conversations\, and the opportunity to foster new relationships within our vibrant community. \nThis networking session serves as the perfect place to unwind\, engage in meaningful discussions\, and expand your professional network. It’s a chance to share your knowledge and learn from others in the field of resilience and risk management. Whether you are a long-standing BRMA member or a guest interested in our organization\, we warmly welcome you to join us. \nWe look forward to seeing you there and sharing an enjoyable evening of networking and camaraderie. Stay tuned for further updates and information as the event approaches. \nDate: June 29th \nTime: 4:30 PM – 8:00 PM \nVenue: Milagros \nAddress: 1099 Middlefield Road\, Redwood City\, CA 94063 \nRegistration\nPlease use the button below to register and get tickets for the event. \n Register\n\nGuests\nCome find out more about BRMA.  This social event is free\, please register using the button above.  Should you have any questions in the meantime\, please contact program@brma.com. \nQuestions\nPlease contact program@brma.com \n\n\n\n\n\n\n\n\n\n\nVisit brma.com to learn more about our the benefits of becoming a member.
URL:https://brma.com/event/summer-camp-series-social-at-milagros-redwood-city/
LOCATION:Milagros Latin Kitchen\, 1099 Middlefield Road\, Redwood City\, CA\, 94063\, United States
CATEGORIES:BRMA In-Person Meetings
ATTACH;FMTTYPE=image/jpeg:https://brma.com/wp-content/uploads/2023/06/Summer-Camp-3v6.jpg
ORGANIZER;CN="BRMA Program Director":MAILTO:program@brma.com
END:VEVENT
END:VCALENDAR