BEGIN:VCALENDAR
VERSION:2.0
PRODID:-//BRMA - ECPv6.15.20//NONSGML v1.0//EN
CALSCALE:GREGORIAN
METHOD:PUBLISH
X-WR-CALNAME:BRMA
X-ORIGINAL-URL:https://brma.com
X-WR-CALDESC:Events for BRMA
REFRESH-INTERVAL;VALUE=DURATION:PT1H
X-Robots-Tag:noindex
X-PUBLISHED-TTL:PT1H
BEGIN:VTIMEZONE
TZID:America/Los_Angeles
BEGIN:DAYLIGHT
TZOFFSETFROM:-0800
TZOFFSETTO:-0700
TZNAME:PDT
DTSTART:20220313T100000
END:DAYLIGHT
BEGIN:STANDARD
TZOFFSETFROM:-0700
TZOFFSETTO:-0800
TZNAME:PST
DTSTART:20221106T090000
END:STANDARD
BEGIN:DAYLIGHT
TZOFFSETFROM:-0800
TZOFFSETTO:-0700
TZNAME:PDT
DTSTART:20230312T100000
END:DAYLIGHT
BEGIN:STANDARD
TZOFFSETFROM:-0700
TZOFFSETTO:-0800
TZNAME:PST
DTSTART:20231105T090000
END:STANDARD
BEGIN:DAYLIGHT
TZOFFSETFROM:-0800
TZOFFSETTO:-0700
TZNAME:PDT
DTSTART:20240310T100000
END:DAYLIGHT
BEGIN:STANDARD
TZOFFSETFROM:-0700
TZOFFSETTO:-0800
TZNAME:PST
DTSTART:20241103T090000
END:STANDARD
END:VTIMEZONE
BEGIN:VEVENT
DTSTART;TZID=America/Los_Angeles:20230525T110000
DTEND;TZID=America/Los_Angeles:20230525T120000
DTSTAMP:20260425T073058
CREATED:20230519T180034Z
LAST-MODIFIED:20230526T165545Z
UID:9599-1685012400-1685016000@brma.com
SUMMARY:BRMA Fireside Chat | OPSEC in Crisis
DESCRIPTION:Fireside Chat | Presented by Michael Brinkofski\nBRMA talks to Michael Brinkofski\, Senior Manager\, Security for the Office of the Director of National Intelligence about the importance of Operational Security (OPSEC) for Enterprise Resilience planning.  Along with sharing his perspective as a security professional\, Michael will discuss why Enterprise Resilience planning should incorporate OPSEC principles and what to remember when a crisis occurs.Come join us for a great discussion and learn what we\, in the resilience arena\, need to know. \n\nSpeaker Spotlight: Michael Brinkofski\n\nAgenda:\n11:00am-12:00pm PST | Presentation & Conversation \nRegistration\nPlease use the button below to register for the event. \n Register\n  \nAfter registering\, you will receive a confirmation email containing information about joining this event. \nGuests\nWish to attend\, and are not a member? Please contact program@brma.com. \nQuestions\nPlease contact program@brma.com \n\n\n\n\n\n\n\n\n\n\nVisit brma.com to learn more about our the benefits of becoming a member.
URL:https://brma.com/event/brma-webinar-fireside-chat-opsec-in-crisis/
LOCATION:Webinar
CATEGORIES:BRMA Webinars
ATTACH;FMTTYPE=image/png:https://brma.com/wp-content/uploads/2023/05/MichaelBrinkofski-Webinar_May25_2023.png
ORGANIZER;CN="BRMA Program Director":MAILTO:program@brma.com
END:VEVENT
END:VCALENDAR